BEGIN:VCALENDAR
VERSION:2.0
PRODID:-//hacksw/handcal//NONSGML v1.0//EN
BEGIN:VEVENT
UID:807e45f5e5bdb9042e3bbe158aa4b0b8rt-ci.ru
DTSTAMP:20260421T083103Z
DTSTART:20260315T210000Z
DTEND:20260318T210000Z
SUMMARY:«Предупреждение коррупционных рисков в сфере закупок и исполнения договоров (контрактов)»
DESCRIPTION:
END:VEVENT
END:VCALENDAR